BEGIN:VCALENDAR
VERSION:2.0
PRODID:-//wp-events-plugin.com//7.2.3.1//EN
TZID:Europe/Paris
X-WR-TIMEZONE:Europe/Paris
BEGIN:VEVENT
UID:155@samba-nantes.fr
DTSTART;TZID=Europe/Paris:20150621T200000
DTEND;TZID=Europe/Paris:20150621T233000
DTSTAMP:20150616T091632Z
URL:https://www.samba-nantes.fr/events/pagode-fete-de-la-musique-de-nantes
 /
SUMMARY:Pagode fête de la musique de Nantes
DESCRIPTION:Retrouvez le Pagode de Coraçao pour la fête de la musique !!
CATEGORIES:Pagode
LOCATION:Bar le Brocéliande\, 40 Rue Préfet Bonnefoy\, Nantes\, Pays de l
 a Loire\, 44000\, Loire-Atlantique\, France
GEO:47.222749;-1.548284
X-APPLE-STRUCTURED-LOCATION;VALUE=URI;X-ADDRESS=40 Rue Préfet Bonnefoy\, N
 antes\, Pays de la Loire\, 44000\, Loire-Atlantique\, France;X-APPLE-RADIU
 S=100;X-TITLE=Bar le Brocéliande:geo:47.222749,-1.548284
END:VEVENT
BEGIN:VTIMEZONE
TZID:Europe/Paris
X-LIC-LOCATION:Europe/Paris
BEGIN:DAYLIGHT
DTSTART:20150329T030000
TZOFFSETFROM:+0100
TZOFFSETTO:+0200
TZNAME:CEST
END:DAYLIGHT
END:VTIMEZONE
END:VCALENDAR