BEGIN:VCALENDAR
VERSION:2.0
PRODID:-//wp-events-plugin.com//7.2.3.1//EN
TZID:Europe/Paris
X-WR-TIMEZONE:Europe/Paris
BEGIN:VEVENT
UID:250@samba-nantes.fr
DTSTART;TZID=Europe/Paris:20220326T000000
DTEND;TZID=Europe/Paris:20220326T000000
DTSTAMP:20220313T212709Z
URL:https://www.samba-nantes.fr/events/cine-concert-avec-le-pagode-au-cine
 ma-lutetia/
SUMMARY:Ciné Concert avec le Pagode au Cinéma Lutétia
DESCRIPTION:
CATEGORIES:Pagode
END:VEVENT
BEGIN:VTIMEZONE
TZID:Europe/Paris
X-LIC-LOCATION:Europe/Paris
BEGIN:STANDARD
DTSTART:20211031T020000
TZOFFSETFROM:+0200
TZOFFSETTO:+0100
TZNAME:CET
END:STANDARD
END:VTIMEZONE
END:VCALENDAR